Workbook

Sheet Data
A1: 703 Distribution Company
A2: Demand information for two products in two markets
A4: Week | B4: Market 1 | D4: Market 2
B5: Product A | C5: Product B | D5: Product A | E5: Product B
A6: 1 | B6: 7 | C6: 1 | D6: 6 | E6: 15
A7: 2 | B7: 17 | C7: 0 | D7: 17 | E7: 2
A8: 3 | B8: 21 | C8: 7 | D8: 17 | E8: 3
A9: 4 | B9: 35 | C9: 3 | D9: 34 | E9: 0
A10: 5 | B10: 41 | C10: 24 | D10: 43 | E10: 5
A11: 6 | B11: 35 | C11: 14 | D11: 29 | E11: 14
A12: 7 | B12: 39 | C12: 21 | D12: 32 | E12: 7
A13: 8 | B13: 31 | C13: 2 | D13: 32 | E13: 8
A14: 9 | B14: 29 | C14: 4 | D14: 28 | E14: 4
A15: 10 | B15: 59 | C15: 41 | D15: 51 | E15: 24
A16: 11 | B16: 26 | C16: 0 | D16: 22 | E16: 0
A17: 12 | B17: 52 | C17: 32 | D17: 53 | E17: 38
... A35: 30 | B35: 36 | C35: 11 | D35: 32 | E35: 1
A36: Average | B36: =AVERAGE(B6:B35) -> 38.3 | C36: =AVERAGE(C6:C35) -> 16.766667 | D36: =AVERAGE(D6:D35) -> 33.666667 | E36: =AVERAGE(E6:E35) -> 14.433333
A37: SD | B37: =STDEV(B6:B35) -> 19.147612 | C37: =STDEV(C6:C35) -> 14.124284 | D37: =STDEV(D6:D35) -> 17.658315 | E37: =STDEV(E6:E35) -> 14.226453

Sheet Calculations
A1: 703 Distribution Company
A4: CONFIGURATION 1
A6: L (in weeks) | B6: T (in weeks) | C6: Service | D6: z
A7: 1 | B7: 1 | C7: 0.97 | D7: =NORMSINV(C7) -> 1.8807936
B9: Market 1 | D9: Market 2
B10: Product A | C10: Product B | D10: Product A | E10: Product B
A11: Avg. Weekly Dmd (m) | B11: =Data!B36 -> 38.3 | C11: =Data!C36 -> 16.766667 | D11: =Data!D36 -> 33.666667 | E11: =Data!E36 -> 14.433333
A12: SD of Weekly Dmd (s) | B12: =Data!B37 -> 19.147612 | C12: =Data!C37 -> 14.124284 | D12: =Data!D37 -> 17.658315 | E12: =Data!E37 -> 14.226453
A13: Avg during T + L (mT+L) | B13: =B11*($A$7+$B$7) -> 76.6 | C13: =C11*($A$7+$B$7) -> 33.533333 | D13: =D11*($A$7+$B$7) -> 67.333333 | E13: =E11*($A$7+$B$7) -> 28.866667
A14: SD during T+L (sT+L) | B14: =B12*SQRT($B$7+$A$7) -> 27.078812 | C14: =C12*SQRT($B$7+$A$7) -> 19.974754 | D14: =D12*SQRT($B$7+$A$7) -> 24.972629 | E14: =E12*SQRT($B$7+$A$7) -> 20.119242
A15: Safety Stock (SS) | B15: =$D$7*B14 -> 50.929657 | C15: =$D$7*C14 -> 37.56839 | D15: =$D$7*D14 -> 46.96836 | E15: =$D$7*E14 -> 37.840142 | F15: =SUM(B15:E15) -> 173.30655
A16: Pipeline Stock (PS) | B16: =B11*$A$7 -> 38.3 | C16: =C11*$A$7 -> 16.766667 | D16: =D11*$A$7 -> 33.666667 | E16: =E11*$A$7 -> 14.433333 | F16: =SUM(B16:E16) -> 103.16667
A17: Cycle Stock (CS) | B17: =B11*$B$7/2 -> 19.15 | C17: =C11*$B$7/2 -> 8.3833333 | D17: =D11*$B$7/2 -> 16.833333 | E17: =E11*$B$7/2 -> 7.2166667 | F17: =SUM(B17:E17) -> 51.583333
A18: Total Sc Inventory | B18: =SUM(B15:E17) -> 328.05655
A21: CONFIGURATION 2
A23: L (in weeks) | B23: T (in weeks) | C23: Service | D23: z
A24: 1 | B24: 1 | C24: 0.97 | D24: =NORMSINV(C24) -> 1.8807936
B26: Product A | C26: Product B
A27: Avg. Weekly Dmd (m) | B27: =B11+D11 -> 71.966667 | C27: =C11+E11 -> 31.2
A28: SD of Weekly Dmd (s) | B28: =SQRT(B12*B12+D12*D12) -> 26.047018 | C28: =SQRT(C12*C12+E12*E12) -> 20.047128
A29: Avg during T + L (mT+L)
A30: SD during T+L (sT+L) | B30: =B28*SQRT($A$24+$B$24) -> 36.836046 | C30: =C28*SQRT($A$24+$B$24) -> 28.350921
A31: Safety Stock (SS) | B31: =$D$24*B30 -> 69.280999 | C31: =$D$24*C30 -> 53.322231 | D31: =SUM(B31:C31) -> 122.60323
A32: Pipeline Stock (PS) | B32: =B27*($A$24) -> 71.966667 | C32: =C27*($A$24) -> 31.2 | D32: =SUM(B32:C32) -> 103.16667
A33: Cycle Stock (CS) | B33: =B27*$B$24/2 -> 35.983333 | C33: =C27*$B$24/2 -> 15.6 | D33: =SUM(B33:C33) -> 51.583333
A34: Total SC Inv | B34: =SUM(B31:C33) -> 277.35323
